BEGIN:VCALENDAR
VERSION:2.0
PRODID:-//Phoenix Indoor Range Edmonton - ECPv6.15.20//NONSGML v1.0//EN
CALSCALE:GREGORIAN
METHOD:PUBLISH
X-WR-CALNAME:Phoenix Indoor Range Edmonton
X-ORIGINAL-URL:https://phoenixrangeyeg.ca
X-WR-CALDESC:Events for Phoenix Indoor Range Edmonton
REFRESH-INTERVAL;VALUE=DURATION:PT1H
X-Robots-Tag:noindex
X-PUBLISHED-TTL:PT1H
BEGIN:VTIMEZONE
TZID:America/Denver
BEGIN:DAYLIGHT
TZOFFSETFROM:-0700
TZOFFSETTO:-0600
TZNAME:MDT
DTSTART:20240310T090000
END:DAYLIGHT
BEGIN:STANDARD
TZOFFSETFROM:-0600
TZOFFSETTO:-0700
TZNAME:MST
DTSTART:20241103T080000
END:STANDARD
BEGIN:DAYLIGHT
TZOFFSETFROM:-0700
TZOFFSETTO:-0600
TZNAME:MDT
DTSTART:20250309T090000
END:DAYLIGHT
BEGIN:STANDARD
TZOFFSETFROM:-0600
TZOFFSETTO:-0700
TZNAME:MST
DTSTART:20251102T080000
END:STANDARD
BEGIN:DAYLIGHT
TZOFFSETFROM:-0700
TZOFFSETTO:-0600
TZNAME:MDT
DTSTART:20260308T090000
END:DAYLIGHT
BEGIN:STANDARD
TZOFFSETFROM:-0600
TZOFFSETTO:-0700
TZNAME:MST
DTSTART:20261101T080000
END:STANDARD
END:VTIMEZONE
BEGIN:VEVENT
DTSTART;TZID=America/Denver:20251115T080000
DTEND;TZID=America/Denver:20251115T180000
DTSTAMP:20260422T154814
CREATED:20250924T191528Z
LAST-MODIFIED:20250924T192033Z
UID:7262-1763193600-1763229600@phoenixrangeyeg.ca
SUMMARY:NON-RESTRICTED FIREARM SAFETY COURSE – November 15th
DESCRIPTION:[vc_row][vc_column icons_position=”left”][vc_column_text]I[/vc_column_text][/vc_column][/vc_row][vc_row][vc_column icons_position=”left”][vc_column_text] \nAS PER RCMP CANADIAN FIREARM PROGRAM REQUIREMENTS\, INSTRUCTIONAL TIME FOR THIS COURSE IS 8 HOURS.\nThere will be a 30-minute lunch time for students/instructors. Please note that written and hands on testing will commence after the required instructional time. Length of testing period is dependent on number of students and the length of time each student requires to complete their individual hands-on testing. \nInstructional time for courses will begin promptly at 8:30am and we ask that students arrive at 8:15am. \nFirst-time licence applicants must pass the Canadian Firearms Safety Course before applying for a Possession and Acquisition Licence. After the in-class instruction\, you will do a written and practical test. \nAnyone 12 years or older can take the CFSC. Children under 12 can take the course\, but only for educational purposes. They will not do the written or practical exams. To get a Minor’s Licence to borrow and use non-restricted firearms\, the minor must be between 12 and 17 years old. \nTopics Covered \n\nEvolution of firearms\, major parts\, types and actions\nBasic firearms safety practices\nAmmunition\nOperating firearm actions\nSafe handling and carry procedures\nFiring techniques and procedures\nCare of non-restricted firearms\nResponsibilities of the firearms owner/user\nSafe storage\, display\, transportation and handling of non-restricted firearms\n\nRescheduling and No Shows\nChanging and re-booking any dates booked  must be done in person  at the range counter. Rescheduling must be made a minimum of 7 days before the course date. Maximum 1 reschedule is allowed. \nRefunds will not be given on any course bookings for any reason. (Including moving\, etc.) No Exceptions.\nNo shows forfeit 100% of the course cost[/vc_column_text][/vc_column][/vc_row]
URL:https://phoenixrangeyeg.ca/event/non-restricted-firearm-safety-course-november-15th/
LOCATION:Phoenix Indoor Range\, 4706 76 Ave NW\,\, Edmonton\, Alberta\, T6B 0A5\, Canada
ATTACH;FMTTYPE=image/jpeg:https://phoenixrangeyeg.ca/wp-content/uploads/2023/06/background-3.jpg
ORGANIZER;CN="Phoenix Indoor Range":MAILTO:info@phoenixrange.ca
END:VEVENT
BEGIN:VEVENT
DTSTART;TZID=America/Denver:20251116T080000
DTEND;TZID=America/Denver:20251116T180000
DTSTAMP:20260422T154814
CREATED:20250924T191730Z
LAST-MODIFIED:20250924T191730Z
UID:7261-1763280000-1763316000@phoenixrangeyeg.ca
SUMMARY:NON-RESTRICTED FIREARM SAFETY COURSE – November 16th
DESCRIPTION:[vc_row][vc_column icons_position=”left”][vc_column_text]I[/vc_column_text][/vc_column][/vc_row][vc_row][vc_column icons_position=”left”][vc_column_text] \nAS PER RCMP CANADIAN FIREARM PROGRAM REQUIREMENTS\, INSTRUCTIONAL TIME FOR THIS COURSE IS 8 HOURS.\nThere will be a 30-minute lunch time for students/instructors. Please note that written and hands on testing will commence after the required instructional time. Length of testing period is dependent on number of students and the length of time each student requires to complete their individual hands-on testing. \nInstructional time for courses will begin promptly at 8:30am and we ask that students arrive at 8:15am. \nFirst-time licence applicants must pass the Canadian Firearms Safety Course before applying for a Possession and Acquisition Licence. After the in-class instruction\, you will do a written and practical test. \nAnyone 12 years or older can take the CFSC. Children under 12 can take the course\, but only for educational purposes. They will not do the written or practical exams. To get a Minor’s Licence to borrow and use non-restricted firearms\, the minor must be between 12 and 17 years old. \nTopics Covered \n\nEvolution of firearms\, major parts\, types and actions\nBasic firearms safety practices\nAmmunition\nOperating firearm actions\nSafe handling and carry procedures\nFiring techniques and procedures\nCare of non-restricted firearms\nResponsibilities of the firearms owner/user\nSafe storage\, display\, transportation and handling of non-restricted firearms\n\nRescheduling and No Shows\nChanging and re-booking any dates booked  must be done in person  at the range counter. Rescheduling must be made a minimum of 7 days before the course date. Maximum 1 reschedule is allowed. \nRefunds will not be given on any course bookings for any reason. (Including moving\, etc.) No Exceptions.\nNo shows forfeit 100% of the course cost[/vc_column_text][/vc_column][/vc_row]
URL:https://phoenixrangeyeg.ca/event/non-restricted-firearm-safety-course-november-16th/
LOCATION:Phoenix Indoor Range\, 4706 76 Ave NW\,\, Edmonton\, Alberta\, T6B 0A5\, Canada
ATTACH;FMTTYPE=image/jpeg:https://phoenixrangeyeg.ca/wp-content/uploads/2023/06/background-3.jpg
ORGANIZER;CN="Phoenix Indoor Range":MAILTO:info@phoenixrange.ca
END:VEVENT
BEGIN:VEVENT
DTSTART;TZID=America/Denver:20251122T080000
DTEND;TZID=America/Denver:20251122T180000
DTSTAMP:20260422T154814
CREATED:20250924T191217Z
LAST-MODIFIED:20251020T025807Z
UID:7263-1763798400-1763834400@phoenixrangeyeg.ca
SUMMARY:NON-RESTRICTED FIREARM SAFETY COURSE – November 22nd
DESCRIPTION:[vc_row][vc_column icons_position=”left”][vc_column_text]I[/vc_column_text][/vc_column][/vc_row][vc_row][vc_column icons_position=”left”][vc_column_text] \nAS PER RCMP CANADIAN FIREARM PROGRAM REQUIREMENTS\, INSTRUCTIONAL TIME FOR THIS COURSE IS 8 HOURS.\nThere will be a 30-minute lunch time for students/instructors. Please note that written and hands on testing will commence after the required instructional time. Length of testing period is dependent on number of students and the length of time each student requires to complete their individual hands-on testing. \nInstructional time for courses will begin promptly at 8:30am and we ask that students arrive at 8:15am. \nFirst-time licence applicants must pass the Canadian Firearms Safety Course before applying for a Possession and Acquisition Licence. After the in-class instruction\, you will do a written and practical test. \nAnyone 12 years or older can take the CFSC. Children under 12 can take the course\, but only for educational purposes. They will not do the written or practical exams. To get a Minor’s Licence to borrow and use non-restricted firearms\, the minor must be between 12 and 17 years old. \nTopics Covered \n\nEvolution of firearms\, major parts\, types and actions\nBasic firearms safety practices\nAmmunition\nOperating firearm actions\nSafe handling and carry procedures\nFiring techniques and procedures\nCare of non-restricted firearms\nResponsibilities of the firearms owner/user\nSafe storage\, display\, transportation and handling of non-restricted firearms\n\nRescheduling and No Shows\nChanging and re-booking any dates booked  must be done in person  at the range counter. Rescheduling must be made a minimum of 7 days before the course date. Maximum 1 reschedule is allowed. \nRefunds will not be given on any course bookings for any reason. (Including moving\, etc.) No Exceptions.\nNo shows forfeit 100% of the course cost[/vc_column_text][/vc_column][/vc_row]
URL:https://phoenixrangeyeg.ca/event/non-restricted-firearm-safety-course-november-22nd/
LOCATION:Phoenix Indoor Range\, 4706 76 Ave NW\,\, Edmonton\, Alberta\, T6B 0A5\, Canada
ATTACH;FMTTYPE=image/jpeg:https://phoenixrangeyeg.ca/wp-content/uploads/2023/06/background-3.jpg
ORGANIZER;CN="Phoenix Indoor Range":MAILTO:info@phoenixrange.ca
END:VEVENT
BEGIN:VEVENT
DTSTART;TZID=America/Denver:20251123T080000
DTEND;TZID=America/Denver:20251123T180000
DTSTAMP:20260422T154814
CREATED:20250924T190710Z
LAST-MODIFIED:20250924T190710Z
UID:7260-1763884800-1763920800@phoenixrangeyeg.ca
SUMMARY:RESTRICTED FIREARM SAFETY COURSE – November 23rd
DESCRIPTION:[vc_row][vc_column icons_position=”left”][vc_column_text] \nAs per RCMP Canadian Firearm Program requirements\, instructional time for this course is 8 hours.\nThere will be a 30-minute lunch time for students/instructors. Please note that written and hands on testing will commence after the required instructional time. Length of testing period is dependent on number of students and the length of time each student requires to complete their individual hands-on testing. \nPrerequisite: The Non-Restricted Firearm Safety Course must be passed prior to taking the Restricted Firearm Safety Course. \nInstructional time for courses will begin promptly at 8:30am and we ask that students arrive at 8:15am. \nFirst-time licence applicants must pass the Canadian Firearms Safety Course before applying for a Possession and Acquisition Licence. After the in-class instruction\, you will do a written and practical test. \nAnyone 12 years or older can take the CFSC. Children under 12 can take the course\, but only for educational purposes. They will not do the written or practical exams. To get a Minor’s Licence to borrow and use non-restricted firearms\, the minor must be between 12 and 17 years old. \nTopics Covered \n  \n\n\n\nEvolution of firearms\, major parts\, types and actions\nBasic firearms safety practices\nAmmunition\nOperating firearm actions\nSafe handling and carry procedures\nFiring techniques and procedures\nCare of restricted firearms\nResponsibilities of the firearms owner/user\nSafe storage\, display\, transportation and handling of restricted firearms\n\n\n\nRescheduling and No Shows\nChanging and re-booking any dates booked  must be done in person  at the range counter. Rescheduling must be made a minimum of 7 days before the course date. Maximum 1 reschedule is allowed. \nRefunds will not be given on any course bookings for any reason. (Including moving\, etc.) No Exceptions.\nNo shows forfeit 100% of the course cost[/vc_column_text][/vc_column][/vc_row]
URL:https://phoenixrangeyeg.ca/event/restricted-firearm-safety-course-november-23rd/
LOCATION:Phoenix Indoor Range\, 4706 76 Ave NW\,\, Edmonton\, Alberta\, T6B 0A5\, Canada
ATTACH;FMTTYPE=image/jpeg:https://phoenixrangeyeg.ca/wp-content/uploads/2023/06/background-3.jpg
ORGANIZER;CN="Phoenix Indoor Range":MAILTO:info@phoenixrange.ca
END:VEVENT
END:VCALENDAR